BEGIN:VCALENDAR
VERSION:2.0
PRODID:-//NAFOA - ECPv6.15.20//NONSGML v1.0//EN
CALSCALE:GREGORIAN
METHOD:PUBLISH
X-WR-CALNAME:NAFOA
X-ORIGINAL-URL:https://nafoa.org
X-WR-CALDESC:Events for NAFOA
REFRESH-INTERVAL;VALUE=DURATION:PT1H
X-Robots-Tag:noindex
X-PUBLISHED-TTL:PT1H
BEGIN:VTIMEZONE
TZID:America/New_York
BEGIN:DAYLIGHT
TZOFFSETFROM:-0500
TZOFFSETTO:-0400
TZNAME:EDT
DTSTART:20210314T070000
END:DAYLIGHT
BEGIN:STANDARD
TZOFFSETFROM:-0400
TZOFFSETTO:-0500
TZNAME:EST
DTSTART:20211107T060000
END:STANDARD
BEGIN:DAYLIGHT
TZOFFSETFROM:-0500
TZOFFSETTO:-0400
TZNAME:EDT
DTSTART:20220313T070000
END:DAYLIGHT
BEGIN:STANDARD
TZOFFSETFROM:-0400
TZOFFSETTO:-0500
TZNAME:EST
DTSTART:20221106T060000
END:STANDARD
BEGIN:DAYLIGHT
TZOFFSETFROM:-0500
TZOFFSETTO:-0400
TZNAME:EDT
DTSTART:20230312T070000
END:DAYLIGHT
BEGIN:STANDARD
TZOFFSETFROM:-0400
TZOFFSETTO:-0500
TZNAME:EST
DTSTART:20231105T060000
END:STANDARD
END:VTIMEZONE
BEGIN:VEVENT
DTSTART;TZID=America/New_York:20220728T130000
DTEND;TZID=America/New_York:20220728T150000
DTSTAMP:20260423T125905
CREATED:20220615T190130Z
LAST-MODIFIED:20220615T191913Z
UID:5087-1659013200-1659020400@nafoa.org
SUMMARY:Energy Access and Reliability on Tribal Lands Listening Session (external event)
DESCRIPTION:Register\n					\nThis virtual listening session\, hosted by the U.S. Department of Energy (DOE) Office of Indian Energy\, will explore challenges and potential solutions related to energy access and reliability on tribal lands. The goal is to gather important insight directly from Native Nations regarding the current status of unelectrified homes and electricity reliability issues facing tribal communities.\nThe Energy Act of 2020 included specific requirements for DOE to conduct research and report back to Congress on these topics. In accordance with that Act\, the Office of Indian Energy is hosting this listening session to provide tribal leaders and staff from energy\, planning\, natural resources\, and other relevant departments the opportunity to make recommendations on the report.\nThis is a follow-up to the first listening session the Office of Indian Energy hosted in November 2021; however\, attendance at the first session is not a prerequisite to participate in this one. During this listening session\, the Office of Indian Energy will discuss the results of the questionnaire conducted during the first session and share findings from the report to date. Please note that there is a capacity limit for this listening session of 500 participants. Tribes and tribal staff will be given priority to attend if the capacity limit is reached. Register to reserve your spot. Once registered\, you will receive a calendar invite\, including a call-in number\, join link\, and other logistics in an email.\nFor more information on the first listening session\, please visit: https://www.energy.gov/indianenergy/energy-access-and-reliability-tribal-lands-listening-session
URL:https://nafoa.org/event/energy-access-and-reliability-on-tribal-lands-listening-session-external-event/
CATEGORIES:External Events,Policy Events
END:VEVENT
END:VCALENDAR