BEGIN:VCALENDAR
VERSION:2.0
PRODID:-//NAFOA - ECPv6.15.20//NONSGML v1.0//EN
CALSCALE:GREGORIAN
METHOD:PUBLISH
X-ORIGINAL-URL:https://nafoa.org
X-WR-CALDESC:Events for NAFOA
REFRESH-INTERVAL;VALUE=DURATION:PT1H
X-Robots-Tag:noindex
X-PUBLISHED-TTL:PT1H
BEGIN:VTIMEZONE
TZID:America/New_York
BEGIN:DAYLIGHT
TZOFFSETFROM:-0500
TZOFFSETTO:-0400
TZNAME:EDT
DTSTART:20210314T070000
END:DAYLIGHT
BEGIN:STANDARD
TZOFFSETFROM:-0400
TZOFFSETTO:-0500
TZNAME:EST
DTSTART:20211107T060000
END:STANDARD
BEGIN:DAYLIGHT
TZOFFSETFROM:-0500
TZOFFSETTO:-0400
TZNAME:EDT
DTSTART:20220313T070000
END:DAYLIGHT
BEGIN:STANDARD
TZOFFSETFROM:-0400
TZOFFSETTO:-0500
TZNAME:EST
DTSTART:20221106T060000
END:STANDARD
BEGIN:DAYLIGHT
TZOFFSETFROM:-0500
TZOFFSETTO:-0400
TZNAME:EDT
DTSTART:20230312T070000
END:DAYLIGHT
BEGIN:STANDARD
TZOFFSETFROM:-0400
TZOFFSETTO:-0500
TZNAME:EST
DTSTART:20231105T060000
END:STANDARD
END:VTIMEZONE
BEGIN:VEVENT
DTSTART;VALUE=DATE:20221018
DTEND;VALUE=DATE:20221111
DTSTAMP:20260423T054437
CREATED:20220824T191041Z
LAST-MODIFIED:20220824T194658Z
UID:6010-1666051200-1668124799@nafoa.org
SUMMARY:Intermediate Tribal Finance And Accounting Certificate
DESCRIPTION:Learn More & Register \n  \nOctober-November 2022\nVirtual – Live Zoom Sessions\nThis four-week program\, with two three-hour days per week\, offers knowledge and experience to help participants become more effective tribal finance/accounting professionals and leaders. Interact with and learn from other tribal finance/accounting professionals throughout the state and beyond. Participants can receive up to 25 hours of CPE credit. \n\nRegistration Information\nRegistration: $1\,500 \n  \nRegistration includes digital instruction\, materials and certificates. One copy of the “Financial Reporting and Information Guide for Tribal Governments\, and Their Enterprises” (Orange Book) as published by the Native American Financial Officers Association will be distributed as part of the registration fee to each participant. \n  \nParticipants can earn up to 25 hours of CPE credit (1 hour of special knowledge\, 1 hour of behavioral ethics\, 3 hours of management services\, 1 hour of regulatory ethics\, 3 hours of accounting\, 3 hours of taxes\, 9 hours of finance\, and 4 hours of TBD for the Tribal Finance and Accounting Conference). \n  \nThe Center for Executive and Professional Development\, Oklahoma State University\, is registered with the National Association of State Boards of Accountancy (NASBA) as a sponsor of continuing professional education on the National Registry of CPE Sponsors. State boards of accountancy have final authority on the acceptance of individual courses for CPE credit. Complaints regarding registered sponsors may be submitted to the National Registry of CPE Sponsors through its website: www.nasbaregistry.org.
URL:https://nafoa.org/event/intermediate-tribal-finance-and-accounting-certificate/
CATEGORIES:External Events
END:VEVENT
BEGIN:VEVENT
DTSTART;TZID=America/New_York:20221130T080000
DTEND;TZID=America/New_York:20221201T170000
DTSTAMP:20260423T054437
CREATED:20221107T195408Z
LAST-MODIFIED:20221107T195455Z
UID:7136-1669795200-1669914000@nafoa.org
SUMMARY:2022 WHITE HOUSE TRIBAL NATIONS SUMMIT
DESCRIPTION:The White House is pleased to announce the 2022 White House Tribal Nations Summit on November 30th and December 1st\, 2022 at the Department of the Interior in Washington\, D.C.Tribal leaders register here: wh.gov/TribalNationsSummit If you have any questions\, please reach out to TNS@who.eop.gov.View the Dear Tribal Leader Letter here.Additional details are forthcoming. Please register for the 2022 White House Tribal Nations Summit by Monday\, November 14 th \, 2022. Due to limited capacity\, we can only accommodate one governmental representative per Tribe.
URL:https://nafoa.org/event/2022-white-house-tribal-nations-summit/
CATEGORIES:External Events
END:VEVENT
END:VCALENDAR