BEGIN:VCALENDAR
VERSION:2.0
PRODID:-//NAFOA - ECPv6.15.20//NONSGML v1.0//EN
CALSCALE:GREGORIAN
METHOD:PUBLISH
X-ORIGINAL-URL:https://nafoa.org
X-WR-CALDESC:Events for NAFOA
REFRESH-INTERVAL;VALUE=DURATION:PT1H
X-Robots-Tag:noindex
X-PUBLISHED-TTL:PT1H
BEGIN:VTIMEZONE
TZID:America/New_York
BEGIN:DAYLIGHT
TZOFFSETFROM:-0500
TZOFFSETTO:-0400
TZNAME:EDT
DTSTART:20240310T070000
END:DAYLIGHT
BEGIN:STANDARD
TZOFFSETFROM:-0400
TZOFFSETTO:-0500
TZNAME:EST
DTSTART:20241103T060000
END:STANDARD
BEGIN:DAYLIGHT
TZOFFSETFROM:-0500
TZOFFSETTO:-0400
TZNAME:EDT
DTSTART:20250309T070000
END:DAYLIGHT
BEGIN:STANDARD
TZOFFSETFROM:-0400
TZOFFSETTO:-0500
TZNAME:EST
DTSTART:20251102T060000
END:STANDARD
BEGIN:DAYLIGHT
TZOFFSETFROM:-0500
TZOFFSETTO:-0400
TZNAME:EDT
DTSTART:20260308T070000
END:DAYLIGHT
BEGIN:STANDARD
TZOFFSETFROM:-0400
TZOFFSETTO:-0500
TZNAME:EST
DTSTART:20261101T060000
END:STANDARD
END:VTIMEZONE
BEGIN:VTIMEZONE
TZID:America/Chicago
BEGIN:DAYLIGHT
TZOFFSETFROM:-0600
TZOFFSETTO:-0500
TZNAME:CDT
DTSTART:20250309T080000
END:DAYLIGHT
BEGIN:STANDARD
TZOFFSETFROM:-0500
TZOFFSETTO:-0600
TZNAME:CST
DTSTART:20251102T070000
END:STANDARD
BEGIN:DAYLIGHT
TZOFFSETFROM:-0600
TZOFFSETTO:-0500
TZNAME:CDT
DTSTART:20260308T080000
END:DAYLIGHT
BEGIN:STANDARD
TZOFFSETFROM:-0500
TZOFFSETTO:-0600
TZNAME:CST
DTSTART:20261101T070000
END:STANDARD
BEGIN:DAYLIGHT
TZOFFSETFROM:-0600
TZOFFSETTO:-0500
TZNAME:CDT
DTSTART:20270314T080000
END:DAYLIGHT
BEGIN:STANDARD
TZOFFSETFROM:-0500
TZOFFSETTO:-0600
TZNAME:CST
DTSTART:20271107T070000
END:STANDARD
END:VTIMEZONE
BEGIN:VEVENT
DTSTART;TZID=America/New_York:20250113T100000
DTEND;TZID=America/New_York:20250113T170000
DTSTAMP:20260423T175234
CREATED:20250107T211019Z
LAST-MODIFIED:20250107T212318Z
UID:20612-1736762400-1736787600@nafoa.org
SUMMARY:Public Hearing on NPRM Entitled "Tribal General Welfare Benefits"
DESCRIPTION:Non-commenters Registration Deadline: 5 p.m. Eastern time on January 9\, 2025. \n\n\n\nIndividuals who want to attend the public hearing in person without testifying must send an email to publichearings@irs.gov to have your name added to the building access list. The subject line of the email must contain the regulation number (REG-106851-21) and the language ATTEND In Person. Individuals who want to attend the public hearing telephonically without testifying must send an email to publichearings@irs.gov to receive the telephone number and access code for the hearing. The subject line of the email must contain the regulation number (REG-106851-21) and the language ATTEND Hearing Telephonically.
URL:https://nafoa.org/event/public-hearing-on-nprm-entitled-tribal-general-welfare-benefits/
CATEGORIES:External Events
END:VEVENT
BEGIN:VEVENT
DTSTART;TZID=America/New_York:20250117T100000
DTEND;TZID=America/New_York:20250117T170000
DTSTAMP:20260423T175234
CREATED:20250107T212202Z
LAST-MODIFIED:20250107T212227Z
UID:20615-1737108000-1737133200@nafoa.org
SUMMARY:Public Hearing on NPRM Entitled "Entities Wholly Owned by Indian Tribal Governments"
DESCRIPTION:For those interested in participating or listening in to the January 17\, 2025\, 10:00 a.m. Eastern Time public hearing on the above-named NPRM\, please note the following dates and requirements: \n\n\n\nJanuary 7\, 2025: Per the NPRM\, persons who wish to present comments at the hearing must submit a request to comment and their outline by 5 p.m. ET on January 7\, 2025. If no outlines are received\, the public hearing will be cancelled. Individuals who want to testify in person at the public hearing must send an email to publichearings@irs.gov to have your name added to the building access list. The subject line of the email must contain the regulation number REG-113628-21 and the language TESTIFY In Person. For example\, the subject line may say: “Request to TESTIFY In Person at Hearing for REG-113628-21.” \n\n\n\nIndividuals who want to testify by telephone at the public hearing must send an email to publichearings@irs.gov to receive the telephone number and access code for the hearing by 5 p.m. ET on January 7\, 2025. The subject line of the email must contain the regulation number REG-113628-21 and the language TESTIFY Telephonically. For example\, the subject line may say: “Request to TESTIFY Telephonically at Hearing for REG-113628-21.” \n\n\n\nJanuary 15\, 2025: Individuals who want to attend the public hearing in person without testifying must also send an email to publichearings@irs.gov to have your name added to the building access list. The subject line of the email must contain the regulation number (REG-113628-21) and the language ATTEND In Person. For example\, the subject line may say: “Request to ATTEND Hearing In Person for REG-113628-21.” Requests to attend the public hearing must be received by 5 p.m. ET on January 15\, 2025. \n\n\n\nIndividuals who want to attend the public hearing telephonically without testifying must send an email to publichearings@irs.gov to receive the telephone number and access code for the hearing. The subject line of the email must contain the regulation number (REG-113628-21) and the language ATTEND Hearing Telephonically. For example\, the subject line may say: “Request to ATTEND Hearing Telephonically for REG-113628-21.” Requests to attend the public hearing must be received by 5 p.m. ET on January 15\, 2025.
URL:https://nafoa.org/event/public-hearing-on-nprm-entitled-entities-wholly-owned-by-indian-tribal-governments/
CATEGORIES:External Events
END:VEVENT
BEGIN:VEVENT
DTSTART;TZID=America/New_York:20250317T000000
DTEND;TZID=America/New_York:20250318T235959
DTSTAMP:20260423T175234
CREATED:20241114T022019Z
LAST-MODIFIED:20241114T022322Z
UID:19150-1742169600-1742342399@nafoa.org
SUMMARY:Governmental Accounting Standards Advisory Council Meeting
DESCRIPTION:The GASAC meets three times a year—one of which is held in conjunction with a stakeholder group meeting. Like the GASB\, GASAC is committed to following an open\, orderly process that is open to public observation. Members of the GASB\, its director of research and technical activities\, members of the GASB’s staff\, and a representative from the FAF attend each GASAC meeting. \n\n\n\nMeetings are available by webcast. To view an in-process webcast\, visit the Live Meeting page. Stakeholders also are welcome to observe meetings in person. Meetings held in Norwalk\, CT\, are at the Financial Accounting Foundation offices at 801 Main Avenue unless otherwise noted.
URL:https://nafoa.org/event/gasac-nov2025/
CATEGORIES:External Events
END:VEVENT
BEGIN:VEVENT
DTSTART;TZID=America/New_York:20250728T000000
DTEND;TZID=America/New_York:20250729T235959
DTSTAMP:20260423T175234
CREATED:20241114T022136Z
LAST-MODIFIED:20241114T022506Z
UID:19152-1753660800-1753833599@nafoa.org
SUMMARY:Governmental Accounting Standards Advisory Council Meeting
DESCRIPTION:The GASAC meets three times a year—one of which is held in conjunction with a stakeholder group meeting. Like the GASB\, GASAC is committed to following an open\, orderly process that is open to public observation. Members of the GASB\, its director of research and technical activities\, members of the GASB’s staff\, and a representative from the FAF attend each GASAC meeting. \n\n\n\nMeetings are available by webcast. To view an in-process webcast\, visit the Live Meeting page. Stakeholders also are welcome to observe meetings in person. Meetings held in Norwalk\, CT\, are at the Financial Accounting Foundation offices at 801 Main Avenue unless otherwise noted.
URL:https://nafoa.org/event/gasac-jul2025/
LOCATION:Nashville\, Tennessee
CATEGORIES:External Events
END:VEVENT
BEGIN:VEVENT
DTSTART;TZID=America/New_York:20250827T150000
DTEND;TZID=America/New_York:20250827T150000
DTSTAMP:20260423T175234
CREATED:20250822T173112Z
LAST-MODIFIED:20250826T203539Z
UID:24053-1756306800-1756306800@nafoa.org
SUMMARY:Webinar: Pathways to Clean Energy Sovereignty for Tribal Nations: Opportunities Post-H.R.1 and Overview of New Treasury Guidance
DESCRIPTION:This webinar will cover important federal clean energy policy developments. Hosted by the Alliance for Tribal Clean Energy\, and in partnership with the Native American Finance Officers Association (NAFOA) and Natural Resource Defense Council (NRDC)\, they will explain the most significant changes to the renewable energy landscape brought on by the Budget Reconciliation bill (P.L. 119-21)\, as well as how recent guidance from the Department of Treasury impacts a project’s ability to qualify for clean energy tax credits for wind and solar projects. \n\n\n\nAttendees will hear from policy and tax experts who will provide insights into how these changes affect projects at all stages of development\, and ways to access additional information and support. You will also learn about how Indian Country can continue to strive for energy sovereignty through renewable energy despite the current political climate. \n\n\n\nIf you are experiencing trouble with the link\, copy and paste the URL into your web browser:https://us06web.zoom.us/webinar/register/WN_5DOVkRntTdmss5Z4StLdRg#/registration
URL:https://nafoa.org/event/webinar-pathways-to-clean-energy-sovereignty-for-tribal-nations-opportunities-post-h-r-1-and-overview-of-new-treasury-guidance/
CATEGORIES:External Events
END:VEVENT
BEGIN:VEVENT
DTSTART;TZID=America/New_York:20251020T000000
DTEND;TZID=America/New_York:20251021T235959
DTSTAMP:20260423T175234
CREATED:20251007T012621Z
LAST-MODIFIED:20251008T162701Z
UID:19157-1760918400-1761091199@nafoa.org
SUMMARY:Governmental Accounting Standards Advisory Council Meeting
DESCRIPTION:The GASAC meets three times a year—one of which is held in conjunction with a stakeholder group meeting. Like the GASB\, GASAC is committed to following an open\, orderly process that is open to public observation. Members of the GASB\, its director of research and technical activities\, members of the GASB’s staff\, and a representative from the FAF attend each GASAC meeting. \n\n\n\nMeetings are available by webcast. To view an in-process webcast\, visit the Live Meeting page. Stakeholders also are welcome to observe meetings in person. Meetings held in Norwalk\, CT\, are at the Financial Accounting Foundation offices at 801 Main Avenue unless otherwise noted.
URL:https://nafoa.org/event/gasac-oct2025/
CATEGORIES:External Events
END:VEVENT
BEGIN:VEVENT
DTSTART;TZID=America/Chicago:20260303T130000
DTEND;TZID=America/Chicago:20260303T140000
DTSTAMP:20260423T175234
CREATED:20260223T204528Z
LAST-MODIFIED:20260224T164735Z
UID:27696-1772542800-1772546400@nafoa.org
SUMMARY:Using Your Tribal Data to Chart Your Future: How Tribes Can Participate in the Survey of Native Nations
DESCRIPTION:On March 3\, the Center for Indian Country Development and NAFOA are hosting a special webinar opportunity for Tribal leaders and Native organizations to learn how they can participate in the Survey of Native Nations. \n\n\n\nBuilt on the principles of Indigenous data sovereignty\, the Survey of Native Nations is equipping Tribes across the country with high-quality public finance data they can use in their decision-making. Native organizations also have the opportunity to make the survey available to their member Tribes and gain valuable research-based insights about their members’ economic contributions and opportunities. \n\n\n\nThis one-hour webinar will cover what you need to know about the survey’s flexible design\, data-security procedures\, and the types of data analyses that participating tribes receive. We’ll also share examples of how tribes are leveraging this unique data collaboration to advance their data practices and economic development goals.
URL:https://nafoa.org/event/using-your-tribal-data-to-chart-your-future-how-tribes-can-participate-in-the-survey-of-native-nations/
CATEGORIES:External Events
END:VEVENT
END:VCALENDAR