BEGIN:VCALENDAR
VERSION:2.0
PRODID:-//NAFOA - ECPv6.15.20//NONSGML v1.0//EN
CALSCALE:GREGORIAN
METHOD:PUBLISH
X-WR-CALNAME:NAFOA
X-ORIGINAL-URL:https://nafoa.org
X-WR-CALDESC:Events for NAFOA
REFRESH-INTERVAL;VALUE=DURATION:PT1H
X-Robots-Tag:noindex
X-PUBLISHED-TTL:PT1H
BEGIN:VTIMEZONE
TZID:America/New_York
BEGIN:DAYLIGHT
TZOFFSETFROM:-0500
TZOFFSETTO:-0400
TZNAME:EDT
DTSTART:20210314T070000
END:DAYLIGHT
BEGIN:STANDARD
TZOFFSETFROM:-0400
TZOFFSETTO:-0500
TZNAME:EST
DTSTART:20211107T060000
END:STANDARD
BEGIN:DAYLIGHT
TZOFFSETFROM:-0500
TZOFFSETTO:-0400
TZNAME:EDT
DTSTART:20220313T070000
END:DAYLIGHT
BEGIN:STANDARD
TZOFFSETFROM:-0400
TZOFFSETTO:-0500
TZNAME:EST
DTSTART:20221106T060000
END:STANDARD
BEGIN:DAYLIGHT
TZOFFSETFROM:-0500
TZOFFSETTO:-0400
TZNAME:EDT
DTSTART:20230312T070000
END:DAYLIGHT
BEGIN:STANDARD
TZOFFSETFROM:-0400
TZOFFSETTO:-0500
TZNAME:EST
DTSTART:20231105T060000
END:STANDARD
END:VTIMEZONE
BEGIN:VEVENT
DTSTART;TZID=America/New_York:20220726T150000
DTEND;TZID=America/New_York:20220726T160000
DTSTAMP:20260423T124325
CREATED:20220707T145930Z
LAST-MODIFIED:20220707T145930Z
UID:5475-1658847600-1658851200@nafoa.org
SUMMARY:Institute Webinar: Preparing for An Interview & Telling Your Story
DESCRIPTION:Register to Join on July 26\, 2022 at 3:00pm ET \nJoin NAFOA and representatives from Bank of America for a mini-workshop on Preparing For An Interview And Telling Your Story. This webinar discussion will consist of interview tips to set yourself apart from other candidates—such as preparing and practicing answering behavioral interview questions\, assessing your skills and understanding how they relate to the role you are applying for\, and preparing follow-up questions for the interviewer. \nOur presenters will share additional guidance around telling your professional story and perfecting your elevator pitch will be provided. Engaging in strategic steps to prepare for an interview allows for a deeper\, more substantive conversation between you and the interviewer. This is a webinar you won’t want to miss! \nSuggested Level: College Students and Young Professionals \n\nAbout Our Presenters\n  \n \nAngel Villavelazquez\, Gila River Indian Community\nVP; Workflow Manager – Global Risk   \nAngel Villavelazquez is currently a Workflow Manager in Test Execution\, responsible for tactical capacity analysis of in-flight workload across Enterprise Independent Testing (EIT) resources.  Prior to this role\, Villavelazquez supported a bilingual testing team responsible for tasks aligned to internal testing efforts and driving adherence to enterprise-wide standards. Since joining the firm in 2002\, Villavelazquez has held various roles in Global Risk Management and Consumer Small Business Banking.  Villavelazquez is Pima from the Gila River Indian Community. She is a strong supporter of increasing awareness of economic\, social\, and cultural issues many Native American communities continue to combat present-day. She serves as a Regional Leader to the Native American Professional Network in Phoenix\, Arizona. \n \nBenjamin Roberts\, Sault Ste. Marie Tribe of Chippewa Indians\nWealth Management Client Associate\, Merrill  \nBenjamin Roberts is a Wealth Management Client Associate supporting the Manhattan East\, 75 Rockefeller office of Merrill. Ben joins the firm after an extensive outbound sales and customer success career in growth stage\, business-to-business infrastructure and marketing technology companies. Ben is Keah\, of the Bawating Anishinaabe\, member of The Sault Ste. Marie Tribe of Chippewa Indians. He is extremely passionate about adult literacy\, and bringing greater financial literacy to various tribes in the Upper Peninsula\, Michigan. Ben is a Co-chair to the Native American Professional Network in New York\, NY. \n  \nFor questions or concerns\, please contact education@nafoa.org.
URL:https://nafoa.org/event/institute-webinar-preparing-for-an-interview-telling-your-story/
CATEGORIES:Institute Webinar
ATTACH;FMTTYPE=image/png:https://nafoa.org/wp-content/uploads/2022/07/boa-interview-webinar-cover.png
END:VEVENT
BEGIN:VEVENT
DTSTART;TZID=America/New_York:20220727T120000
DTEND;TZID=America/New_York:20220727T133000
DTSTAMP:20260423T124325
CREATED:20220727T160000Z
LAST-MODIFIED:20220713T140710Z
UID:4215-1658923200-1658928600@nafoa.org
SUMMARY:Institute Webinar: How to Analyze Financial Statements
DESCRIPTION:Register to join on July 27 at 12pm ET \nSince the beginning of commerce\, businesses have struggled to manage and grow with discipline.  One of the core principles is an understanding of numbers. Join NAFOA for a professional development webinar\, “How to Analyze Financial Statements” on Wednesday\, July 27th at 12:00 pm Eastern Time. Early to mid-career professionals from tribal and non-tribal entities and companies are invited to attend. \nIn this session\, Miles Hutchinson\, an experienced CGMA and business adviser\, will explain how to quickly and thoroughly analyze any publicly-traded company’s financial condition and results of operations.  He will provide an analysis model that will help you repeat the process long after the course has faded away from memory.
URL:https://nafoa.org/event/institute-webinar-how-to-read-and-analyze-financial-statements/
CATEGORIES:Institute Webinar
ATTACH;FMTTYPE=image/png:https://nafoa.org/wp-content/uploads/2022/07/webinar-fin-statements.png
END:VEVENT
END:VCALENDAR