BEGIN:VCALENDAR
VERSION:2.0
PRODID:-//NAFOA - ECPv6.15.20//NONSGML v1.0//EN
CALSCALE:GREGORIAN
METHOD:PUBLISH
X-ORIGINAL-URL:https://nafoa.org
X-WR-CALDESC:Events for NAFOA
REFRESH-INTERVAL;VALUE=DURATION:PT1H
X-Robots-Tag:noindex
X-PUBLISHED-TTL:PT1H
BEGIN:VTIMEZONE
TZID:America/New_York
BEGIN:DAYLIGHT
TZOFFSETFROM:-0500
TZOFFSETTO:-0400
TZNAME:EDT
DTSTART:20210314T070000
END:DAYLIGHT
BEGIN:STANDARD
TZOFFSETFROM:-0400
TZOFFSETTO:-0500
TZNAME:EST
DTSTART:20211107T060000
END:STANDARD
BEGIN:DAYLIGHT
TZOFFSETFROM:-0500
TZOFFSETTO:-0400
TZNAME:EDT
DTSTART:20220313T070000
END:DAYLIGHT
BEGIN:STANDARD
TZOFFSETFROM:-0400
TZOFFSETTO:-0500
TZNAME:EST
DTSTART:20221106T060000
END:STANDARD
BEGIN:DAYLIGHT
TZOFFSETFROM:-0500
TZOFFSETTO:-0400
TZNAME:EDT
DTSTART:20230312T070000
END:DAYLIGHT
BEGIN:STANDARD
TZOFFSETFROM:-0400
TZOFFSETTO:-0500
TZNAME:EST
DTSTART:20231105T060000
END:STANDARD
END:VTIMEZONE
BEGIN:VEVENT
DTSTART;TZID=America/New_York:20221107T140000
DTEND;TZID=America/New_York:20221107T160000
DTSTAMP:20260423T062927
CREATED:20221028T201854Z
LAST-MODIFIED:20221028T201944Z
UID:6717-1667829600-1667836800@nafoa.org
SUMMARY:Webinar: Forecasting with Excel’s Powerful Sensitivity Tools
DESCRIPTION:Financial analysis is an area of opportunity and risk. Analysis should incorporate tests of sensitivity to changes in key variables using the most advanced tools available. Typical financial models do not effectively utilize these tools. This exposes the analyst to blind spots in their analysis. Analysts will want to obtain and become proficient in the use of the more sophisticated “what if” analysis tools of the trade.  \n\n\n\nJoin us on Monday\, November 7 at 2:00 pm ET for Forecasting with Excel’s Powerful Sensitivity Tools to understand Excel’s powerful sensitivity tools and get the full power out of your financial models. Registration is required.
URL:https://nafoa.org/event/webinar-forecasting-with-excels-powerful-sensitivity-tools/
CATEGORIES:Institute Webinar
END:VEVENT
BEGIN:VEVENT
DTSTART;TZID=America/New_York:20221129T183000
DTEND;TZID=America/New_York:20221129T193000
DTSTAMP:20260423T062927
CREATED:20221121T214839Z
LAST-MODIFIED:20221121T214926Z
UID:7273-1669746600-1669750200@nafoa.org
SUMMARY:Carving the Path: Conversations for Native Young Professionals
DESCRIPTION:Join NAFOA and our guest speaker\, Emery Real Bird\, for a discussion on creating your career pathway as a Native young professional. \n\n\n\nEmery Real Bird\, is an enrolled member of the Dził Łigai Si’án N’dee; White Mountain Apache Tribe and also has Apsáalooke; Crow heritage. Emery is a government relations and finance professional based in Washington D.C. Emery graduated from Princeton University in 2017 with a degree in Politics where his thesis focused on the Alaska Native organizational influence on the Senate reelection of Lisa Murkowski from Alaska in 2010. Emery is also a graduate of Tsinghua University in Beijing\, China with a Masters of Management Science with a focus in Global Affairs—a cross section of business and politics—with the Schwarzman Scholars Program. There he studied the unique position of China in the Arctic and the intersection of Indigenous rights and culture as it relates to the Belt and Road Initiative and the Arctic Council. Emery continues to study and explore the implications of international affairs on tribal nations.
URL:https://nafoa.org/event/carving-the-path-conversations-for-native-young-professionals/
CATEGORIES:Institute Webinar
END:VEVENT
END:VCALENDAR