BEGIN:VCALENDAR
VERSION:2.0
PRODID:-//NAFOA - ECPv6.15.20//NONSGML v1.0//EN
CALSCALE:GREGORIAN
METHOD:PUBLISH
X-WR-CALNAME:NAFOA
X-ORIGINAL-URL:https://nafoa.org
X-WR-CALDESC:Events for NAFOA
REFRESH-INTERVAL;VALUE=DURATION:PT1H
X-Robots-Tag:noindex
X-PUBLISHED-TTL:PT1H
BEGIN:VTIMEZONE
TZID:UTC
BEGIN:STANDARD
TZOFFSETFROM:+0000
TZOFFSETTO:+0000
TZNAME:UTC
DTSTART:20210101T000000
END:STANDARD
END:VTIMEZONE
BEGIN:VEVENT
DTSTART;VALUE=DATE:20220404
DTEND;VALUE=DATE:20220406
DTSTAMP:20260423T090044
CREATED:20220413T232648Z
LAST-MODIFIED:20220413T232649Z
UID:364-1649030400-1649203199@nafoa.org
SUMMARY:NAFOA 40th Annual Conference
DESCRIPTION:
URL:https://nafoa.org/event/nafoa-40th-annual-conference/
LOCATION:Hyatt Regency Seattle\, 808 Howell St\, Seattle\, 98101\, United States
CATEGORIES:Conference
ATTACH;FMTTYPE=image/png:https://nafoa.org/wp-content/uploads/2022/04/broadcast-image.png
END:VEVENT
END:VCALENDAR