BEGIN:VCALENDAR
VERSION:2.0
PRODID:-//NAFOA - ECPv6.15.20//NONSGML v1.0//EN
CALSCALE:GREGORIAN
METHOD:PUBLISH
X-ORIGINAL-URL:https://nafoa.org
X-WR-CALDESC:Events for NAFOA
REFRESH-INTERVAL;VALUE=DURATION:PT1H
X-Robots-Tag:noindex
X-PUBLISHED-TTL:PT1H
BEGIN:VTIMEZONE
TZID:America/New_York
BEGIN:DAYLIGHT
TZOFFSETFROM:-0500
TZOFFSETTO:-0400
TZNAME:EDT
DTSTART:20220313T070000
END:DAYLIGHT
BEGIN:STANDARD
TZOFFSETFROM:-0400
TZOFFSETTO:-0500
TZNAME:EST
DTSTART:20221106T060000
END:STANDARD
BEGIN:DAYLIGHT
TZOFFSETFROM:-0500
TZOFFSETTO:-0400
TZNAME:EDT
DTSTART:20230312T070000
END:DAYLIGHT
BEGIN:STANDARD
TZOFFSETFROM:-0400
TZOFFSETTO:-0500
TZNAME:EST
DTSTART:20231105T060000
END:STANDARD
BEGIN:DAYLIGHT
TZOFFSETFROM:-0500
TZOFFSETTO:-0400
TZNAME:EDT
DTSTART:20240310T070000
END:DAYLIGHT
BEGIN:STANDARD
TZOFFSETFROM:-0400
TZOFFSETTO:-0500
TZNAME:EST
DTSTART:20241103T060000
END:STANDARD
END:VTIMEZONE
BEGIN:VEVENT
DTSTART;TZID=America/New_York:20230614T120000
DTEND;TZID=America/New_York:20230614T160000
DTSTAMP:20260421T170805
CREATED:20230508T184955Z
LAST-MODIFIED:20231114T193114Z
UID:10116-1686744000-1686758400@nafoa.org
SUMMARY:Treasury Tribal Advisory Committee Meeting
DESCRIPTION:The Treasury Tribal Advisory Committee will be holding its tenth periodic meeting on March 14\, 2023\, from 1:00 to 4:00 p.m. ET. This will be a hybrid in person and virtual meeting. For more information\, visit the Treasury TTAC website here
URL:https://nafoa.org/event/treasury-tribal-advisory-committee-meeting/
LOCATION:The Treasury Building\, 1500 Pennsylvania Avenue\, NW\, Washington\, District of Columbia\, 20220
CATEGORIES:TTAC
END:VEVENT
END:VCALENDAR