BEGIN:VCALENDAR
VERSION:2.0
PRODID:-//NAFOA - ECPv6.15.20//NONSGML v1.0//EN
CALSCALE:GREGORIAN
METHOD:PUBLISH
X-ORIGINAL-URL:https://nafoa.org
X-WR-CALDESC:Events for NAFOA
REFRESH-INTERVAL;VALUE=DURATION:PT1H
X-Robots-Tag:noindex
X-PUBLISHED-TTL:PT1H
BEGIN:VTIMEZONE
TZID:America/New_York
BEGIN:DAYLIGHT
TZOFFSETFROM:-0500
TZOFFSETTO:-0400
TZNAME:EDT
DTSTART:20220313T070000
END:DAYLIGHT
BEGIN:STANDARD
TZOFFSETFROM:-0400
TZOFFSETTO:-0500
TZNAME:EST
DTSTART:20221106T060000
END:STANDARD
BEGIN:DAYLIGHT
TZOFFSETFROM:-0500
TZOFFSETTO:-0400
TZNAME:EDT
DTSTART:20230312T070000
END:DAYLIGHT
BEGIN:STANDARD
TZOFFSETFROM:-0400
TZOFFSETTO:-0500
TZNAME:EST
DTSTART:20231105T060000
END:STANDARD
BEGIN:DAYLIGHT
TZOFFSETFROM:-0500
TZOFFSETTO:-0400
TZNAME:EDT
DTSTART:20240310T070000
END:DAYLIGHT
BEGIN:STANDARD
TZOFFSETFROM:-0400
TZOFFSETTO:-0500
TZNAME:EST
DTSTART:20241103T060000
END:STANDARD
END:VTIMEZONE
BEGIN:VEVENT
DTSTART;TZID=America/New_York:20230907T130000
DTEND;TZID=America/New_York:20230907T160000
DTSTAMP:20260421T122023
CREATED:20230831T050420Z
LAST-MODIFIED:20230831T050512Z
UID:11935-1694091600-1694102400@nafoa.org
SUMMARY:Treasury Tribal Advisory Committee Meeting
DESCRIPTION:The Treasury Tribal Advisory Committee will be holding its twelfth periodic meeting on September 7\, 2023\, from 1:00 to 5:00 p.m. ET. This will be a hybrid in person and virtual meeting. You may register for the upcoming meeting here. Please register by Monday\, September 5\, 2023\, 5 p.m. ET. An agenda is forthcoming. 
URL:https://nafoa.org/event/treasury-tribal-advisory-committee-meeting-2/
CATEGORIES:External Events,Policy Events,TTAC
END:VEVENT
END:VCALENDAR