BEGIN:VCALENDAR
VERSION:2.0
PRODID:-//NAFOA - ECPv6.15.20//NONSGML v1.0//EN
CALSCALE:GREGORIAN
METHOD:PUBLISH
X-ORIGINAL-URL:https://nafoa.org
X-WR-CALDESC:Events for NAFOA
REFRESH-INTERVAL;VALUE=DURATION:PT1H
X-Robots-Tag:noindex
X-PUBLISHED-TTL:PT1H
BEGIN:VTIMEZONE
TZID:America/New_York
BEGIN:DAYLIGHT
TZOFFSETFROM:-0500
TZOFFSETTO:-0400
TZNAME:EDT
DTSTART:20230312T070000
END:DAYLIGHT
BEGIN:STANDARD
TZOFFSETFROM:-0400
TZOFFSETTO:-0500
TZNAME:EST
DTSTART:20231105T060000
END:STANDARD
BEGIN:DAYLIGHT
TZOFFSETFROM:-0500
TZOFFSETTO:-0400
TZNAME:EDT
DTSTART:20240310T070000
END:DAYLIGHT
BEGIN:STANDARD
TZOFFSETFROM:-0400
TZOFFSETTO:-0500
TZNAME:EST
DTSTART:20241103T060000
END:STANDARD
BEGIN:DAYLIGHT
TZOFFSETFROM:-0500
TZOFFSETTO:-0400
TZNAME:EDT
DTSTART:20250309T070000
END:DAYLIGHT
BEGIN:STANDARD
TZOFFSETFROM:-0400
TZOFFSETTO:-0500
TZNAME:EST
DTSTART:20251102T060000
END:STANDARD
END:VTIMEZONE
BEGIN:VEVENT
DTSTART;TZID=America/New_York:20240124T130000
DTEND;TZID=America/New_York:20240124T170000
DTSTAMP:20260421T062307
CREATED:20240110T065849Z
LAST-MODIFIED:20240112T183455Z
UID:15051-1706101200-1706115600@nafoa.org
SUMMARY:Thirteenth Periodic TTAC Meeting
DESCRIPTION:Pursuant to Section 3 of the Tribal General Welfare Exclusion Act of 2014\, Pub. L. 113-168\, and in accordance with the provisions of the FACA\, the TTAC was established on February 10\, 2015. This seven member Tribal advisory committee advises the Secretary on significant matters related to the taxation of Indians\, the training of Internal Revenue Service field agents\, and the provisions of training and technical assistance to Native American financial officers. The membership has three appointees nominated by the Secretary\, two appointed by the House Committee on Ways and Means and two nominated by the Senate Committee on Finance.
URL:https://nafoa.org/event/thirteenth-periodic-ttac-meeting/
LOCATION:The Treasury Building\, 1500 Pennsylvania Avenue\, NW\, Washington\, District of Columbia\, 20220
CATEGORIES:TTAC
ORGANIZER;CN="U.S. Department of the Treasury":MAILTO:TTAC@treasury.gov
END:VEVENT
END:VCALENDAR