BEGIN:VCALENDAR
VERSION:2.0
PRODID:-//NAFOA - ECPv6.15.20//NONSGML v1.0//EN
CALSCALE:GREGORIAN
METHOD:PUBLISH
X-ORIGINAL-URL:https://nafoa.org
X-WR-CALDESC:Events for NAFOA
REFRESH-INTERVAL;VALUE=DURATION:PT1H
X-Robots-Tag:noindex
X-PUBLISHED-TTL:PT1H
BEGIN:VTIMEZONE
TZID:America/New_York
BEGIN:DAYLIGHT
TZOFFSETFROM:-0500
TZOFFSETTO:-0400
TZNAME:EDT
DTSTART:20210314T070000
END:DAYLIGHT
BEGIN:STANDARD
TZOFFSETFROM:-0400
TZOFFSETTO:-0500
TZNAME:EST
DTSTART:20211107T060000
END:STANDARD
BEGIN:DAYLIGHT
TZOFFSETFROM:-0500
TZOFFSETTO:-0400
TZNAME:EDT
DTSTART:20220313T070000
END:DAYLIGHT
BEGIN:STANDARD
TZOFFSETFROM:-0400
TZOFFSETTO:-0500
TZNAME:EST
DTSTART:20221106T060000
END:STANDARD
BEGIN:DAYLIGHT
TZOFFSETFROM:-0500
TZOFFSETTO:-0400
TZNAME:EDT
DTSTART:20230312T070000
END:DAYLIGHT
BEGIN:STANDARD
TZOFFSETFROM:-0400
TZOFFSETTO:-0500
TZNAME:EST
DTSTART:20231105T060000
END:STANDARD
END:VTIMEZONE
BEGIN:VEVENT
DTSTART;TZID=America/New_York:20220822T140000
DTEND;TZID=America/New_York:20220822T160000
DTSTAMP:20260422T210330
CREATED:20220811T185101Z
LAST-MODIFIED:20220811T185607Z
UID:5808-1661176800-1661184000@nafoa.org
SUMMARY:Webinar Series: Using Public and Private Financing for Energy Projects
DESCRIPTION:NAFOA\, the Departments of Interior\, Energy\, the Treasury\, and Commerce\, along with experts in the energy and finance sector is hosting a series of webinars designed to show how tribes can take advantage of a broad array of funding sources. \nExperts will discuss what tribes need to know about combining various programs and grants\, financing pitfalls to be aware of and how to avoid them\, how funding sources can “stack” together on one project\, and more. \nThis series will be spread out over four days\, each with a different focus:\nMonday\, Aug 22nd at 2:00 pm – 4:00 pm ET:\n“Federal Grants for Tribal Energy Projects”\nFederal staff from four different Administration Departments will discuss key Departmental programs/grants\, how they can work together\, and how you can integrate different agencies into one project. \nTuesday\, Aug 23rd at 2:00 pm – 3:30 pm ET:\n“Avoiding Pitfalls and Ensuring Success”\nTribal staff and consultants will address pitfalls to avoid\, how successful tribes have planned and implemented their projects\, and what tribal staff should know. \nWednesday\, Aug 24th at 2:00 pm – 3:30 pm ET:\n“Combining Public and Private Financing for Energy Projects”\nHear from financing and energy experts about how to use public funding to get private financing\, what options are available in both public/private financing and energy development\, and what energy companies consider when making an investment. \nThursday\, Aug 25th at 2:00 pm – 3:30 pm ET:\n“Putting the Puzzle Together”\nTo conclude\, speakers from the previous days will discuss examples of how all the series information works together in a practical\, real-world way. The series will end with a policy discussion about steps forward\, what policy changes might be forthcoming\, and how things could be improved.\nRegistration is required to join. Only one registration to attend all of the webinar series is necessary.\nRegister for the Webinar Series
URL:https://nafoa.org/event/webinar-series-using-public-and-private-financing-for-energy-projects/
CATEGORIES:Policy Webinar/Meeting
END:VEVENT
END:VCALENDAR