BEGIN:VCALENDAR
VERSION:2.0
PRODID:-//NAFOA - ECPv6.15.20//NONSGML v1.0//EN
CALSCALE:GREGORIAN
METHOD:PUBLISH
X-WR-CALNAME:NAFOA
X-ORIGINAL-URL:https://nafoa.org
X-WR-CALDESC:Events for NAFOA
REFRESH-INTERVAL;VALUE=DURATION:PT1H
X-Robots-Tag:noindex
X-PUBLISHED-TTL:PT1H
BEGIN:VTIMEZONE
TZID:America/New_York
BEGIN:DAYLIGHT
TZOFFSETFROM:-0500
TZOFFSETTO:-0400
TZNAME:EDT
DTSTART:20210314T070000
END:DAYLIGHT
BEGIN:STANDARD
TZOFFSETFROM:-0400
TZOFFSETTO:-0500
TZNAME:EST
DTSTART:20211107T060000
END:STANDARD
BEGIN:DAYLIGHT
TZOFFSETFROM:-0500
TZOFFSETTO:-0400
TZNAME:EDT
DTSTART:20220313T070000
END:DAYLIGHT
BEGIN:STANDARD
TZOFFSETFROM:-0400
TZOFFSETTO:-0500
TZNAME:EST
DTSTART:20221106T060000
END:STANDARD
BEGIN:DAYLIGHT
TZOFFSETFROM:-0500
TZOFFSETTO:-0400
TZNAME:EDT
DTSTART:20230312T070000
END:DAYLIGHT
BEGIN:STANDARD
TZOFFSETFROM:-0400
TZOFFSETTO:-0500
TZNAME:EST
DTSTART:20231105T060000
END:STANDARD
END:VTIMEZONE
BEGIN:VEVENT
DTSTART;TZID=America/New_York:20220630T150000
DTEND;TZID=America/New_York:20220630T163000
DTSTAMP:20260423T122112
CREATED:20220630T190000Z
LAST-MODIFIED:20220622T173303Z
UID:4212-1656601200-1656606600@nafoa.org
SUMMARY:Institute Webinar: How to Read and Understand an Annual Report
DESCRIPTION:Register to join on Thursday\, June 30th at 3:00pm Eastern Time.  \nAccounting and finance is supposed to be the international language of business. If so\, then why do we struggle so much to make sense of the numbers? Are we so busy managing our business and leading our staff\, that we don’t have time to wade through the financials\, discover the trends\, draw proper conclusions and take appropriate action? What if our peers\, or worse\, our competition understands our numbers better than we do? \nIn this session\, Miles Hutchinson\, experienced accounting and finance expert and business adviser\, will explain how to quickly and introduce you to the financial reporting of public and private companies!
URL:https://nafoa.org/event/institute-webinar-how-to-read-and-understand-an-annual-report/
CATEGORIES:Institute Webinar
ATTACH;FMTTYPE=image/png:https://nafoa.org/wp-content/uploads/2022/06/Institute-Webinars.png
END:VEVENT
END:VCALENDAR